BEGIN:VCALENDAR
VERSION:2.0
PRODID:-//Great Careers Network - ECPv6.15.20//NONSGML v1.0//EN
CALSCALE:GREGORIAN
METHOD:PUBLISH
X-WR-CALNAME:Great Careers Network
X-ORIGINAL-URL:https://greatcareers.org
X-WR-CALDESC:Events for Great Careers Network
REFRESH-INTERVAL;VALUE=DURATION:PT1H
X-Robots-Tag:noindex
X-PUBLISHED-TTL:PT1H
BEGIN:VTIMEZONE
TZID:America/New_York
BEGIN:DAYLIGHT
TZOFFSETFROM:-0500
TZOFFSETTO:-0400
TZNAME:EDT
DTSTART:20250309T070000
END:DAYLIGHT
BEGIN:STANDARD
TZOFFSETFROM:-0400
TZOFFSETTO:-0500
TZNAME:EST
DTSTART:20251102T060000
END:STANDARD
BEGIN:DAYLIGHT
TZOFFSETFROM:-0500
TZOFFSETTO:-0400
TZNAME:EDT
DTSTART:20260308T070000
END:DAYLIGHT
BEGIN:STANDARD
TZOFFSETFROM:-0400
TZOFFSETTO:-0500
TZNAME:EST
DTSTART:20261101T060000
END:STANDARD
BEGIN:DAYLIGHT
TZOFFSETFROM:-0500
TZOFFSETTO:-0400
TZNAME:EDT
DTSTART:20270314T070000
END:DAYLIGHT
BEGIN:STANDARD
TZOFFSETFROM:-0400
TZOFFSETTO:-0500
TZNAME:EST
DTSTART:20271107T060000
END:STANDARD
END:VTIMEZONE
BEGIN:VEVENT
DTSTART;TZID=America/New_York:20260803T090000
DTEND;TZID=America/New_York:20260806T120000
DTSTAMP:20260424T064247
CREATED:20260118T065815Z
LAST-MODIFIED:20260118T200649Z
UID:48814-1785747600-1786017600@greatcareers.org
SUMMARY:Career Readiness 4 Day Mon to Thu August 3-6 Virtual
DESCRIPTION:See the detailed description for the Career Readiness Camp for Teens. \nThis session is Monday to Thursday August 3-6\, 9 AM-12 PM ET  \nLocation is Zoom (forthcoming)
URL:https://greatcareers.org/events-calendar/career-readiness-4-day-mon-to-thu-august-3-6/
LOCATION:Online
ATTACH;FMTTYPE=image/jpeg:https://greatcareers.org/wp-content/uploads/2026/01/Career-Readiness-Camp-for-Teens-R.jpg
ORGANIZER;CN="Lynne Williams":MAILTO:director@greatcareersphl.org
END:VEVENT
END:VCALENDAR