BEGIN:VCALENDAR
VERSION:2.0
PRODID:-//Great Careers Network - ECPv6.15.20//NONSGML v1.0//EN
CALSCALE:GREGORIAN
METHOD:PUBLISH
X-WR-CALNAME:Great Careers Network
X-ORIGINAL-URL:https://greatcareers.org
X-WR-CALDESC:Events for Great Careers Network
REFRESH-INTERVAL;VALUE=DURATION:PT1H
X-Robots-Tag:noindex
X-PUBLISHED-TTL:PT1H
BEGIN:VTIMEZONE
TZID:America/New_York
BEGIN:DAYLIGHT
TZOFFSETFROM:-0500
TZOFFSETTO:-0400
TZNAME:EDT
DTSTART:20250309T070000
END:DAYLIGHT
BEGIN:STANDARD
TZOFFSETFROM:-0400
TZOFFSETTO:-0500
TZNAME:EST
DTSTART:20251102T060000
END:STANDARD
BEGIN:DAYLIGHT
TZOFFSETFROM:-0500
TZOFFSETTO:-0400
TZNAME:EDT
DTSTART:20260308T070000
END:DAYLIGHT
BEGIN:STANDARD
TZOFFSETFROM:-0400
TZOFFSETTO:-0500
TZNAME:EST
DTSTART:20261101T060000
END:STANDARD
BEGIN:DAYLIGHT
TZOFFSETFROM:-0500
TZOFFSETTO:-0400
TZNAME:EDT
DTSTART:20270314T070000
END:DAYLIGHT
BEGIN:STANDARD
TZOFFSETFROM:-0400
TZOFFSETTO:-0500
TZNAME:EST
DTSTART:20271107T060000
END:STANDARD
END:VTIMEZONE
BEGIN:VEVENT
DTSTART;TZID=America/New_York:20260428T183000
DTEND;TZID=America/New_York:20260428T193000
DTSTAMP:20260420T173827
CREATED:20251222T025321Z
LAST-MODIFIED:20260225T012341Z
UID:48635-1777401000-1777404600@greatcareers.org
SUMMARY:Business Executives Networking Group & ChemPharma
DESCRIPTION:Are you a mid to senior-level executive\, C-suite\, or business owner? \nJoin us for networking at the Business Executives Networking Group (BENG) and ChemPharma. \nMeetings are on the fourth Tuesday of the month from 6:30-7:30 PM from January to October with chapter leader\, Michael Ward.
URL:https://greatcareers.org/events-calendar/business-executives-networking-group-chempharma/
LOCATION:Online
ATTACH;FMTTYPE=image/jpeg:https://greatcareers.org/wp-content/uploads/2026/02/old-recurring.jpg
ORGANIZER;CN="Lynne Williams":MAILTO:director@greatcareersphl.org
END:VEVENT
END:VCALENDAR