BEGIN:VCALENDAR
VERSION:2.0
PRODID:-//Great Careers Network - ECPv6.15.20//NONSGML v1.0//EN
CALSCALE:GREGORIAN
METHOD:PUBLISH
X-WR-CALNAME:Great Careers Network
X-ORIGINAL-URL:https://greatcareers.org
X-WR-CALDESC:Events for Great Careers Network
REFRESH-INTERVAL;VALUE=DURATION:PT1H
X-Robots-Tag:noindex
X-PUBLISHED-TTL:PT1H
BEGIN:VTIMEZONE
TZID:America/New_York
BEGIN:DAYLIGHT
TZOFFSETFROM:-0500
TZOFFSETTO:-0400
TZNAME:EDT
DTSTART:20250309T070000
END:DAYLIGHT
BEGIN:STANDARD
TZOFFSETFROM:-0400
TZOFFSETTO:-0500
TZNAME:EST
DTSTART:20251102T060000
END:STANDARD
BEGIN:DAYLIGHT
TZOFFSETFROM:-0500
TZOFFSETTO:-0400
TZNAME:EDT
DTSTART:20260308T070000
END:DAYLIGHT
BEGIN:STANDARD
TZOFFSETFROM:-0400
TZOFFSETTO:-0500
TZNAME:EST
DTSTART:20261101T060000
END:STANDARD
BEGIN:DAYLIGHT
TZOFFSETFROM:-0500
TZOFFSETTO:-0400
TZNAME:EDT
DTSTART:20270314T070000
END:DAYLIGHT
BEGIN:STANDARD
TZOFFSETFROM:-0400
TZOFFSETTO:-0500
TZNAME:EST
DTSTART:20271107T060000
END:STANDARD
END:VTIMEZONE
BEGIN:VEVENT
DTSTART;TZID=America/New_York:20260427T180000
DTEND;TZID=America/New_York:20260427T193000
DTSTAMP:20260420T132610
CREATED:20260201T083527Z
LAST-MODIFIED:20260224T030348Z
UID:48950-1777312800-1777318200@greatcareers.org
SUMMARY:Build You Then Build It
DESCRIPTION:RSVP as a paid monthly or annual member for Zoom \nJoin as a member https://greatcareers.org/membership \ndescription forthcoming \nSPEAKER BIO \nAndré Davis is a public speaker and Founder of 10Four Media Group. He helps creators and organizations turn ideas into aligned systems\, social impact\, and scaleable media. \n  \nSPEAKER CONTACT LINKS \nawc@10fourmediagroup.com \nhttps://www.linkedin.com/in/andrewyze/ \n 
URL:https://greatcareers.org/events-calendar/build-you-then-build-it/
LOCATION:Online
ATTACH;FMTTYPE=image/jpeg:https://greatcareers.org/wp-content/uploads/2026/02/4.27.26-TBD-R.jpg
ORGANIZER;CN="Lynne Williams":MAILTO:director@greatcareersphl.org
END:VEVENT
END:VCALENDAR